BEGIN:VCALENDAR
VERSION:2.0
PRODID:-//ChamberMaster//Event Calendar 2.0//EN
METHOD:PUBLISH
X-PUBLISHED-TTL:P3D
REFRESH-INTERVAL:P3D
CALSCALE:GREGORIAN
BEGIN:VEVENT
DTSTART:20260611T203000Z
DTEND:20260611T223000Z
X-MICROSOFT-CDO-ALLDAYEVENT:FALSE
SUMMARY:ELI Event: The Works Development Update & Happy Hour
DESCRIPTION:
X-ALT-DESC;FMTTYPE=text/html:
LOCATION:The Works 1295 Chattahoochee Ave\, Atlanta\, GA 30318
UID:e.9174.6319
SEQUENCE:3
DTSTAMP:20260422T011540Z
URL:https://members.councilforqualitygrowth.org/events/details/eli-event-the-works-development-update-happy-hour-6319
END:VEVENT

END:VCALENDAR
